BEGIN:VCALENDAR

VERSION:2.0

PRODID:-//hacksw/handcal//NONSGML v1.0//EN

BEGIN:VEVENT

UID:dd51c2afe13bde1b20119c5e712fa782

DTSTAMP:20260420T125656Z

DTSTART:20260311T124500

DTEND:20260311T130000

SUMMARY: - 

LOCATION:

END:VEVENT

END:VCALENDAR